BEGIN:VCALENDAR
VERSION:2.0
PRODID:-//Winnica Kościeleckich - ECPv6.15.14//NONSGML v1.0//EN
CALSCALE:GREGORIAN
METHOD:PUBLISH
X-WR-CALNAME:Winnica Kościeleckich
X-ORIGINAL-URL:https://winnicakoscieleckich.pl
X-WR-CALDESC:Wydarzenia dla Winnica Kościeleckich
REFRESH-INTERVAL;VALUE=DURATION:PT1H
X-Robots-Tag:noindex
X-PUBLISHED-TTL:PT1H
BEGIN:VTIMEZONE
TZID:Europe/Warsaw
BEGIN:DAYLIGHT
TZOFFSETFROM:+0100
TZOFFSETTO:+0200
TZNAME:CEST
DTSTART:20240331T010000
END:DAYLIGHT
BEGIN:STANDARD
TZOFFSETFROM:+0200
TZOFFSETTO:+0100
TZNAME:CET
DTSTART:20241027T010000
END:STANDARD
BEGIN:DAYLIGHT
TZOFFSETFROM:+0100
TZOFFSETTO:+0200
TZNAME:CEST
DTSTART:20250330T010000
END:DAYLIGHT
BEGIN:STANDARD
TZOFFSETFROM:+0200
TZOFFSETTO:+0100
TZNAME:CET
DTSTART:20251026T010000
END:STANDARD
BEGIN:DAYLIGHT
TZOFFSETFROM:+0100
TZOFFSETTO:+0200
TZNAME:CEST
DTSTART:20260329T010000
END:DAYLIGHT
BEGIN:STANDARD
TZOFFSETFROM:+0200
TZOFFSETTO:+0100
TZNAME:CET
DTSTART:20261025T010000
END:STANDARD
BEGIN:DAYLIGHT
TZOFFSETFROM:+0100
TZOFFSETTO:+0200
TZNAME:CEST
DTSTART:20270328T010000
END:DAYLIGHT
BEGIN:STANDARD
TZOFFSETFROM:+0200
TZOFFSETTO:+0100
TZNAME:CET
DTSTART:20271031T010000
END:STANDARD
END:VTIMEZONE
BEGIN:VTIMEZONE
TZID:UTC
BEGIN:STANDARD
TZOFFSETFROM:+0000
TZOFFSETTO:+0000
TZNAME:UTC
DTSTART:20240101T000000
END:STANDARD
END:VTIMEZONE
BEGIN:VEVENT
DTSTART;TZID=Europe/Warsaw:20260123T120000
DTEND;TZID=Europe/Warsaw:20260123T170000
DTSTAMP:20260419T153415
CREATED:20260127T154808Z
LAST-MODIFIED:20260127T155315Z
UID:24087-1769169600-1769187600@winnicakoscieleckich.pl
SUMMARY:II Konferencja „Uprawa winorośli” podczas TSW 2026
DESCRIPTION:Za nami II Konferencja „Uprawa winorośli”\nUczestniczyliśmy w niej jako słuchacze i mieliśmy okazję spotkać się z braćą winiarską w drugiej edycji konferencji podczas TSW Prelegenci podzielili się swoim doświadczeniem: dr inż. Janusz Mazurek – Problematyka występowania raka bakteryjnego winorośli Allorhizobium vitis w Polsce i na świecie. Inż. Richard Danko – Integracja nowoczesnych form prowadzenia krzewów winorośli z tradycyjnymi praktykami czeskich winnic w warunkach chłodnego klimatu. dr hab. Magdalena Kapłan – Zarządzanie wielkością i jakością plonów winorośli w warunkach zmieniających się warunków pogodowych. Wojciech Niemiec – Wsparcie konwencjonalnej ochrony winorośli poprzez ochronę biologiczną. dr inż. Dariusz Paszko – Czy małe\, polskie winnice mają jeszcze biznesowe uzasadnienie na rozwijającym się winiarskim rynku. Piotr Stopczyński – Technologia produkcji win. Od surowca\, przez etapy technologiczne\, aż po przygotowanie gotowego produktu do sprzedaży. Zwieńczeniem konferencji był panel dyskusyjny poświęcony marketingowi i dystrybucji polskich win – niezwykle cenny głos praktyków.Dziękujemy i do zobaczenia na kolejnych wydarzeniach! 
URL:https://winnicakoscieleckich.pl/wydarzenie/ii-konferencja-uprawa-winorosli-podczas-tsw-2026/
END:VEVENT
BEGIN:VEVENT
DTSTART;TZID=Europe/Warsaw:20260116T180000
DTEND;TZID=Europe/Warsaw:20260116T210000
DTSTAMP:20260419T153415
CREATED:20260124T202733Z
LAST-MODIFIED:20260125T143250Z
UID:24074-1768586400-1768597200@winnicakoscieleckich.pl
SUMMARY:Spotkanie Klubu Biznesu Korony Kielce
DESCRIPTION:Wino – emocje czy inwestycja?\nPodczas czwartkowego spotkania Klubu Biznesu Korony Kielce odbyła się wyjątkowa prelekcja Piotra Kameckiego. Ekspert\, od lat związany z branżą jako sommelier\, przedsiębiorca i przedstawiciel międzynarodowych struktur sommelierskich\, przedstawił temat wina w kontekście kolekcjonowania oraz inwestowania. \nUczestnicy poznali cechy win uznawanych za kolekcjonerskie. Dowiedzieli się\, dlaczego wina coraz częściej traktowane są jako alternatywna forma lokowania kapitału oraz jakie kryteria warto brać pod uwagę przy budowaniu własnej kolekcji. Piotr Kamecki omówił również\, jak zmieniał się rynek winiarski na przestrzeni ostatnich 25 lat i jakie konsekwencje niosą te zmiany dla współczesnych konsumentów. \nSpotkanie zwieńczyła degustacja starannie wybranego wina Embruix de Vall Llach 2022\, która pozwoliła uczestnikom doświadczyć w praktyce zagadnień omawianych podczas prelekcji. \nEmbruix de Vall Llach 2022 to wytrawne czerwone wino z Prioratu\, łączące szczepy Merlot\, Garnacha\, Cariñena\, Syrah i Cabernet Sauvignon. Charakteryzuje się intensywnym aromatem owoców\, przypraw i minerałów\, dojrzewane w beczce z francuskiego dębu\, a jego styl łączy elegancję z głębią. Idealne do dziczyzny\, serów i dań kuchni śródziemnomorskiej. \nUdział Piotra Kameckiego był wyjątkową okazją do zdobycia wiedzy a samo wydarzenie spotkało się z dużym zainteresowaniem członków Klubu Biznesu Korony Kielce. \nSerdecznie dziękuje za zaproszenie oraz za możliwość przedstawienia produktów zielarskich Herba Seca z Winnicy Kościeleckich ❤️ \nSylwester Kościelecki
URL:https://winnicakoscieleckich.pl/wydarzenie/spotkanie-klubu-biznesu-korony-kielce/
LOCATION:Hotel Binkowski\, Wojciecha Szczepaniaka 42\, Kielce\, świętokrzyskie\, 25-043\, Poland
END:VEVENT
BEGIN:VEVENT
DTSTART;VALUE=DATE:20251215
DTEND;VALUE=DATE:20251216
DTSTAMP:20260419T153415
CREATED:20260123T210627Z
LAST-MODIFIED:20260123T211528Z
UID:24042-1765756800-1765843199@winnicakoscieleckich.pl
SUMMARY:Szkolenie Zarządzanie Winnicą
DESCRIPTION:Program szkolenia\nTemat: Zarządzanie winnicą w zmieniającym się klimacie: fenologia winorośli\, ograniczanie ryzyka i optymalne odżywianie mineralne \nProwadzący: Maciej Gąstoł (URK) \n🟢 1. Wprowadzenie do zagadnień siedliskowych i terroir \n\nDefinicje siedliska i terroir w kontekście winiarstwa\nCzynniki wpływające na jakość siedliska: gleba\, klimat\, topografia\nOcena przydatności terenu pod winnicę: odkrywki glebowe\, analiza struktury gleby\, poziom wód gruntowych\n\n🌡️ 2. Fenologia winorośli a zmiany klimatyczne \n\nEtapy rozwoju winorośli i ich zależność od temperatury\nWpływ ocieplenia klimatu na terminy wegetacyjne\nRyzyko przymrozków wiosennych i mrozów zimowych — strategie ograniczania strat\n\n🧪 3. Diagnostyka potrzeb nawozowych winorośli \n\nRóżnica między potrzebami żywieniowymi a nawozowymi\nMetody diagnostyczne: lustracja\, analiza gleby\, analiza części wskaźnikowych\nTesty Egnera-Riehma\, Schachtschabela\, Rinkisa — interpretacja wyników\n\n🧬 4. Składniki pokarmowe i ich rola w rozwoju winorośli \n\nMakroskładniki: N\, P\, K\, Ca\, Mg\, S — formy pobierania i funkcje\nMikroskładniki: Zn\, B\, Fe\, Mn\, Cu\, Mo\, Ni\, Cl — znaczenie w metabolizmie rośliny\nWpływ pH gleby i konkurencji między pierwiastkami na dostępność składników\n\n🌱 5. Podkładki winorośli — charakterystyka i dobór \n\nTolerancja na warunki glebowe\, zasolenie\, suszę\nRozkład systemu korzeniowego w zależności od typu podkładki\nWpływ podkładki na pobieranie składników i jakość plonu\n\n📊 6. Planowanie nawożenia mineralnego \n\nKlasy zasobności gleby i zalecane dawki nawozów\nPrzeliczniki form tlenkowych na czysty składnik\nWapnowanie gleb — potrzeby\, dawki\, formy nawozów wapniowych\n\n📝 7. Dokumentacja i pobieranie prób \n\nSchemat pobierania prób gleby i liści\nKarta informacyjna dla próbek\nLiczba prób w zależności od powierzchni sadu/winnicy\n\nSzkolenie realizowane w ramach operacji własnej KSOW+ pt. „Gospodarstwa demonstracyjne: nauka przez doświadczenie”. \nData i miejsce: 15.12.2025 r.\, Winnica Avra Maciej Woźniak (Wola Żyzna 50A\, 28-225 Szydłów)Organizatorzy: KSOW+\, ŚODR Modliszewice\, Unia Europejska (EFRROW)
URL:https://winnicakoscieleckich.pl/wydarzenie/szkolenie-zarzadzanie-winnica/
LOCATION:Wola Żyzna\, Wola Żyzna 50A\, Szydłów\, świętokrzyskie\, 28-225\, Poland
END:VEVENT
BEGIN:VEVENT
DTSTART;TZID=Europe/Warsaw:20251128T173000
DTEND;TZID=Europe/Warsaw:20251128T200000
DTSTAMP:20260419T153415
CREATED:20260124T175737Z
LAST-MODIFIED:20260124T182044Z
UID:24050-1764351000-1764360000@winnicakoscieleckich.pl
SUMMARY:Warsztat Herba Seca & Wino
DESCRIPTION:Warsztat szkoleniowy Herba Seca & Wino\nZielarska podróż smaków i wiedzy w kontekście zdrowego stylu życia \nPoszerzenie wiedzy o właściwościach ziół i ich zastosowaniu w życiu codziennym – poznanie sposobów ich wykorzystania oraz darmowa degustacja produktów z Winnicy Kościeleckich połączona z networkingiem biznesowym \nProgram warsztatu \n\nTradycje zielarskie ziemi krajeńskiej i regionu świętokrzyskiego\, właściwości ziół oraz ich zastosowanie w codzienności\nDegustacja ziołowych naparów i ekstraktów\, soku winogronowego oraz wina handmade stworzone z wiedzą winiarską\nĆwiczenia sensoryczna: rozpoznawanie aromatów i smaków\nQ&A w trakcie spotkania
URL:https://winnicakoscieleckich.pl/wydarzenie/warsztat-herba-seca/
LOCATION:Kielce\, ul. 1 Maja 191\, Kielce\, 25-468\, Poland
END:VEVENT
BEGIN:VEVENT
DTSTART;TZID=Europe/Warsaw:20250323T170000
DTEND;TZID=Europe/Warsaw:20250323T210000
DTSTAMP:20260419T153415
CREATED:20260124T190802Z
LAST-MODIFIED:20260124T192305Z
UID:24065-1742749200-1742763600@winnicakoscieleckich.pl
SUMMARY:Aby wino pachniało w kieliszku
DESCRIPTION:Program wydarzenia szkoleniowego\nProwadzący: Radosław Froń \nCel szkolenia: Zrozumienie mechanizmów powstawania aromatów w winie\, identyfikacja wad i chorób wina oraz metody ich zapobiegania i korekty. \nCzym jest wino i jak powstaje? \n\nDefinicja wina i rola winiarza\nEtapy fermentacji alkoholowej\nCzynniki wpływające na jakość wina: odmiana\, zdrowotność\, dojrzałość\, technologia\n\nAromaty i zapachy w winie \n\nPodział aromatów: I\, II i III rzędowe\nSubstancje lotne i ich właściwości\nPróg wyczuwalności i próg wrażliwości\nAnaliza sensoryczna i olfaktometria\nJakość hedoniczna zapachu\n\nGłówne grupy związków aromatycznych \n\nEstry: aromaty owocowe\nTerpeny: aromaty kwiatowe\nZwiązki siarkowe: zapachy redukcyjne\nZwiązki karbonylowe: aldehydy\, ketony\nKwasy organiczne i laktony\n\nWady i choroby wina \n\nZaoctowanie\, oksydacja\, redukcja siarkowa\nPrzesiarkowanie\, Brett\, pleśń\, choroba korkowa\nNietypowe tony starzenia\nNiestabilność biologiczna i białkowa\n\nZapobieganie i przeciwdziałanie \n\nHigiena winiarska i kontrola fermentacji\nSiarkowanie\, filtracja\, klarowanie\nStabilizacja chemiczna i fizyczna\nDobór odpowiednich środków technologicznych\n\nStabilizacja wina \n\nKlarowanie: środki i mechanizmy działania\nFiltracja: zakres mikronów i zastosowanie\nStabilizacja chemiczna: SO₂\, sorbinian potasu\nPrzykłady wad sensorycznych i ich korekta
URL:https://winnicakoscieleckich.pl/wydarzenie/aby-wino-pachnialo-w-kieliszku/
LOCATION:Rytwiany\, Szczeka 50\, Szczeka\, świętokrzyskie\, 28-236\, Poland
END:VEVENT
BEGIN:VEVENT
DTSTART;VALUE=DATE:20250125
DTEND;VALUE=DATE:20250126
DTSTAMP:20260419T153415
CREATED:20250112T205943Z
LAST-MODIFIED:20260124T181158Z
UID:21091-1737763200-1737849599@winnicakoscieleckich.pl
SUMMARY:Szkolenie Winiarskie Zimowe 2025
DESCRIPTION:To wyjątkowe dla nas wydarzenie\, ponieważ bedziemy się szkolić z cięcia winorośli zimą oraz omawiać praktyczne zagadnienia uprawy winorośli w drugim roku. Szkolenie praktyczne poprowadzi Marcin Wołoszczak z Winnicy Mazovia. Na koniec dnia planowana jest degustacja win z Winnicy Mazovia oraz naszych win. \n \nZdobędziemy praktyczną wiedzę o cieciu i formowaniu winorośli w drugim roku. Dowiemy się jakie prace agrorolne i opryski zaplanować na wiosnę\, jak działać  (zabezpieczyć) rośliny w winnicy na zimną zośkę. Będziemy omawiać kiedy stosować cięcie czy na zimę\, jesień i wiosnę\, na takich przyrostach jak nasze czy można zastosować system przyśpieszonego formowania\, tj. dwa sezony w jednym roku. \nW programie wydarzenia\n🍇 Uprawa winorośli po pierwszym roku – Praktyczne szkolenie z cięcia winorośli\, formowania\, pielęgnacji\,  oprysków oraz omówienie procesu zlewania wina do butelek za pomocą nalewarki Enolmatic. \n🍷 Degustacja win – Po szkoleniu odbędzie się degustacja win z Winnicy Mazovia i Winnicy Kościeleckich wraz z podsumowaniem szkolenia. \nSzkolenie zamknięte i bezpłatne!
URL:https://winnicakoscieleckich.pl/wydarzenie/szkolenie-winiarskie-zimowe/
LOCATION:Krajno-Parcele\, Poland
ORGANIZER;CN="Sylwester Ko%C5%9Bcielecki":MAILTO:kontakt@winnicakoscieleckich.pl
END:VEVENT
END:VCALENDAR